BEGIN:VCALENDAR
VERSION:2.0
PRODID:Events Booking
BEGIN:VEVENT
UID:69e6eb38243f0
SUMMARY:Last day to apply for a mail-in or civilian absentee ballot
DESCRIPTION:
DTSTART:20261027T040000Z
DTSTAMP:20240108T234651Z
ORGANIZER;CN=League of Women Voters of Radnor Township:MAILTO:lwvradnor@gma
 il.com
END:VEVENT
END:VCALENDAR