BEGIN:VCALENDAR
VERSION:2.0
PRODID:Events Booking
BEGIN:VEVENT
UID:69e6ec9d7a1b3
SUMMARY:Last day for withdrawal by candidates nominated at the primary with
 out a court order
DESCRIPTION:
DTSTART:20260810T040000Z
DTSTAMP:20240108T234507Z
ORGANIZER;CN=League of Women Voters of Radnor Township:MAILTO:lwvradnor@gma
 il.com
END:VEVENT
END:VCALENDAR