BEGIN:VCALENDAR
VERSION:2.0
PRODID:Events Booking
BEGIN:VEVENT
UID:69e6eaa8e29b0
SUMMARY:2026 PA PRIMARY ELECTION
DESCRIPTION:
DTSTART:20260519T110000Z
DTEND:20260520T000000Z
DTSTAMP:20250302T215614Z
ORGANIZER;CN=League of Women Voters of Radnor Township:MAILTO:lwvradnor@gma
 il.com
END:VEVENT
END:VCALENDAR