BEGIN:VCALENDAR
VERSION:2.0
PRODID:Events Booking
BEGIN:VEVENT
UID:69e6b8f55524b
SUMMARY:2023 MUNICIPAL PRIMARY
DESCRIPTION:
DTSTART:20230516T110000Z
DTEND:20230517T000000Z
DTSTAMP:20260420T233829Z
ORGANIZER;CN=League of Women Voters of Radnor Township:MAILTO:lwvradnor@gma
 il.com
END:VEVENT
END:VCALENDAR